BEGIN:VCALENDAR
VERSION:2.0
PRODID:-//damenschwimmverein//NONSGML kigkonsult.se iCalcreator 2.30.10//
CALSCALE:GREGORIAN
METHOD:PUBLISH
UID:35a4b007-2723-4ca1-b118-63d903df4304
X-WR-CALNAME:iCagenda
X-WR-CALDESC:Event Management Extension for Joomla!
X-WR-RELCALID:3E26604A-50F4-4449-8B3E-E4F4932D05B5
X-WR-TIMEZONE:UTC
BEGIN:VTIMEZONE
TZID:UTC
END:VTIMEZONE
BEGIN:VEVENT
UID:04a224c2-9897-4f02-99d0-1f317005ae86
DTSTAMP:20260421T062607Z
CATEGORIES:Vereinsveranstaltungen
CLASS:PUBLIC
DESCRIPTION:
DTSTART:20250513T190000Z
DTEND:20250513T220000Z
GEO:+48.180233;+11.575991
LOCATION:TSV Milbertshofen Schulungsraum 1. Stock
ORGANIZER:
SEQUENCE:1
SUMMARY:25 Jahreshauptversammlung Damen-Schwimm-Verein München v.1903 e.V.
TRANSP:OPAQUE
URL:https://damenschwimmverein.de/verein/termine/94-25-jahreshauptversammlu
 ng-damen-schwimm-verein-muenchen-v-1903-e-v
END:VEVENT
END:VCALENDAR
