BEGIN:VCALENDAR
VERSION:2.0
PRODID:-//damenschwimmverein//NONSGML kigkonsult.se iCalcreator 2.30.10//
CALSCALE:GREGORIAN
METHOD:PUBLISH
UID:8c12aab0-eb1b-4899-abee-f3356993bec1
X-WR-CALNAME:iCagenda
X-WR-CALDESC:Event Management Extension for Joomla!
X-WR-RELCALID:3E26604A-50F4-4449-8B3E-E4F4932D05B5
X-WR-TIMEZONE:UTC
BEGIN:VTIMEZONE
TZID:UTC
END:VTIMEZONE
BEGIN:VEVENT
UID:9c4da289-4f60-4fe0-91c5-d82fa12c3e55
DTSTAMP:20260419T164716Z
CATEGORIES:Veranstaltungen Verbände
CLASS:PUBLIC
DESCRIPTION:
DTSTART:20261113T165300Z
DTEND:20261115T165300Z
GEO:00;0
LOCATION:
ORGANIZER:
SEQUENCE:1
SUMMARY:26 Vorschlag für die DSV-Wertungsrichter Ausbildung VS 01
TRANSP:OPAQUE
URL:https://damenschwimmverein.de/verein/termine/89-26-vorschlag-fuer-die-d
 sv-wertungsrichter-ausbildung-vs-01
END:VEVENT
END:VCALENDAR
