BEGIN:VCALENDAR
VERSION:2.0
PRODID:-//damenschwimmverein//NONSGML kigkonsult.se iCalcreator 2.30.10//
CALSCALE:GREGORIAN
METHOD:PUBLISH
UID:e6246b04-d617-4069-bef2-b8a60089c092
X-WR-CALNAME:iCagenda
X-WR-CALDESC:Event Management Extension for Joomla!
X-WR-RELCALID:3E26604A-50F4-4449-8B3E-E4F4932D05B5
X-WR-TIMEZONE:UTC
BEGIN:VTIMEZONE
TZID:UTC
END:VTIMEZONE
BEGIN:VEVENT
UID:b2b02fd8-00cd-4cf5-b2b0-9ff2f27e704c
DTSTAMP:20260421T220143Z
CATEGORIES:Artistic Swimming Wettkampf National
CLASS:PUBLIC
DESCRIPTION:
DTSTART:20260328T164300Z
DTEND:20260329T164400Z
GEO:+52.374477;+9.738553
LOCATION:Hannover
ORGANIZER:
SEQUENCE:1
SUMMARY:26 DMS Hannover
TRANSP:OPAQUE
URL:https://damenschwimmverein.de/verein/termine/82-26-dms-hannover
END:VEVENT
END:VCALENDAR
