BEGIN:VCALENDAR
VERSION:2.0
PRODID:-//damenschwimmverein//NONSGML kigkonsult.se iCalcreator 2.30.10//
CALSCALE:GREGORIAN
METHOD:PUBLISH
UID:f5bd9d2c-1fce-4195-b8a9-3c04d82dde0f
X-WR-CALNAME:iCagenda
X-WR-CALDESC:Event Management Extension for Joomla!
X-WR-RELCALID:3E26604A-50F4-4449-8B3E-E4F4932D05B5
X-WR-TIMEZONE:UTC
BEGIN:VTIMEZONE
TZID:UTC
END:VTIMEZONE
BEGIN:VEVENT
UID:739902a9-bf51-45b1-a0ca-7d0d24fa29c9
DTSTAMP:20260419T161615Z
CATEGORIES:Veranstaltungen Verbände
CLASS:PUBLIC
DESCRIPTION:
DTSTART:20260131T164200Z
DTEND:20260201T164200Z
GEO:00;0
LOCATION:nn
ORGANIZER:
SEQUENCE:1
SUMMARY:DSV-Wertungsrichterfortbildung\; für alle B-Lizenzen
TRANSP:OPAQUE
URL:https://damenschwimmverein.de/verein/termine/81-dsv-wertungsrichterfort
 bildung-fuer-alle-b-lizenzen
END:VEVENT
END:VCALENDAR
