BEGIN:VCALENDAR
VERSION:2.0
PRODID:-//damenschwimmverein//NONSGML kigkonsult.se iCalcreator 2.30.10//
CALSCALE:GREGORIAN
METHOD:PUBLISH
UID:56d88d14-0636-4a3f-aa10-4aa6497c38b8
X-WR-CALNAME:iCagenda
X-WR-CALDESC:Event Management Extension for Joomla!
X-WR-RELCALID:3E26604A-50F4-4449-8B3E-E4F4932D05B5
X-WR-TIMEZONE:UTC
BEGIN:VTIMEZONE
TZID:UTC
END:VTIMEZONE
BEGIN:VEVENT
UID:55918e89-dae5-40e8-90f2-9b5c5b6b01bb
DTSTAMP:20260423T203442Z
CATEGORIES:Artistic Swimming DSV Lehrgänge Nationalmannschaft
CLASS:PUBLIC
DESCRIPTION:
DTSTART:20250529T000000Z
DTEND:20250601T000000Z
GEO:00;0
LOCATION:Kienbaum/Berlin
ORGANIZER:
SEQUENCE:1
SUMMARY:25-11 DSV NM-Team Lehrgang   NK2-2
TRANSP:OPAQUE
URL:https://damenschwimmverein.de/verein/termine/67-25-11-dsv-nm-team-lehrg
 ang-nk2-2
END:VEVENT
END:VCALENDAR
