BEGIN:VCALENDAR
VERSION:2.0
PRODID:-//damenschwimmverein//NONSGML kigkonsult.se iCalcreator 2.30.10//
CALSCALE:GREGORIAN
METHOD:PUBLISH
UID:49379ebb-9fdd-498c-b4cb-3cd13d99afdd
X-WR-CALNAME:iCagenda
X-WR-CALDESC:Event Management Extension for Joomla!
X-WR-RELCALID:3E26604A-50F4-4449-8B3E-E4F4932D05B5
X-WR-TIMEZONE:UTC
BEGIN:VTIMEZONE
TZID:UTC
END:VTIMEZONE
BEGIN:VEVENT
UID:3d2c75ad-9eac-4524-9780-918c21afc779
DTSTAMP:20260424T211023Z
CATEGORIES:Artistic Swimming DSV Lehrgänge Nationalmannschaft
CLASS:PUBLIC
DESCRIPTION:
DTSTART:20250417T000000Z
DTEND:20250421T000000Z
GEO:00;0
LOCATION:nn
ORGANIZER:
SEQUENCE:1
SUMMARY:25-06 DSV NM-Team Lehrgang
TRANSP:OPAQUE
URL:https://damenschwimmverein.de/verein/termine/66-25-06-dsv-nm-team-lehrg
 ang
END:VEVENT
END:VCALENDAR
