BEGIN:VCALENDAR
VERSION:2.0
PRODID:-//damenschwimmverein//NONSGML kigkonsult.se iCalcreator 2.30.10//
CALSCALE:GREGORIAN
METHOD:PUBLISH
UID:578e49ef-991f-4061-bd47-21f6045e47b6
X-WR-CALNAME:iCagenda
X-WR-CALDESC:Event Management Extension for Joomla!
X-WR-RELCALID:3E26604A-50F4-4449-8B3E-E4F4932D05B5
X-WR-TIMEZONE:UTC
BEGIN:VTIMEZONE
TZID:UTC
END:VTIMEZONE
BEGIN:VEVENT
UID:f8afaf9c-4d7d-4d60-ad18-982a4fb9af78
DTSTAMP:20260424T111142Z
CATEGORIES:Artistic Swimming DSV Lehrgänge Nationalmannschaft
CLASS:PUBLIC
DESCRIPTION:
DTSTART:20250411T000000Z
DTEND:20250416T000000Z
GEO:00;0
LOCATION:München
ORGANIZER:
SEQUENCE:1
SUMMARY:25-05 DSV JNM-Team Lehrgang
TRANSP:OPAQUE
URL:https://damenschwimmverein.de/verein/termine/65-25-05-dsv-nm-team-lehrg
 ang
END:VEVENT
END:VCALENDAR
