BEGIN:VCALENDAR
VERSION:2.0
PRODID:-//damenschwimmverein//NONSGML kigkonsult.se iCalcreator 2.30.10//
CALSCALE:GREGORIAN
METHOD:PUBLISH
UID:2467bb0e-167f-41c4-8b6f-613b6b1bbb8c
X-WR-CALNAME:iCagenda
X-WR-CALDESC:Event Management Extension for Joomla!
X-WR-RELCALID:3E26604A-50F4-4449-8B3E-E4F4932D05B5
X-WR-TIMEZONE:UTC
BEGIN:VTIMEZONE
TZID:UTC
END:VTIMEZONE
BEGIN:VEVENT
UID:a873a6fc-cc38-4b09-97ef-4f6732ccf683
DTSTAMP:20260421T060012Z
CATEGORIES:Artistic Swimming DSV Lehrgänge Nationalmannschaft
CLASS:PUBLIC
DESCRIPTION:
DTSTART:20250213T000000Z
DTEND:20250217T000000Z
GEO:00;0
LOCATION:Kienbaum/Dresden
ORGANIZER:
SEQUENCE:1
SUMMARY:25-03 DSV NM-Team Lehrgang
TRANSP:OPAQUE
URL:https://damenschwimmverein.de/verein/termine/63-25-03-dsv-nm-team-lehrg
 ang
END:VEVENT
END:VCALENDAR
