BEGIN:VCALENDAR
VERSION:2.0
PRODID:-//damenschwimmverein//NONSGML kigkonsult.se iCalcreator 2.30.10//
CALSCALE:GREGORIAN
METHOD:PUBLISH
UID:25cebc7c-8e17-4f1a-9650-10020d58587a
X-WR-CALNAME:iCagenda
X-WR-CALDESC:Event Management Extension for Joomla!
X-WR-RELCALID:3E26604A-50F4-4449-8B3E-E4F4932D05B5
X-WR-TIMEZONE:UTC
BEGIN:VTIMEZONE
TZID:UTC
END:VTIMEZONE
BEGIN:VEVENT
UID:970ab92d-fd28-47b6-9a8c-f2731be6c821
DTSTAMP:20260420T155300Z
CATEGORIES:Artistic Swimming DSV Lehrgänge Nationalmannschaft
CLASS:PUBLIC
DESCRIPTION:
DTSTART:20250130T000000Z
DTEND:20250204T000000Z
GEO:00;0
LOCATION:Kienbaum/Dresden
ORGANIZER:
SEQUENCE:1
SUMMARY:25-02 DSV NM-Team Lehrgang
TRANSP:OPAQUE
URL:https://damenschwimmverein.de/verein/termine/62-25-02-dsv-nm-team-lehrg
 ang
END:VEVENT
END:VCALENDAR
