BEGIN:VCALENDAR
VERSION:2.0
PRODID:-//damenschwimmverein//NONSGML kigkonsult.se iCalcreator 2.30.10//
CALSCALE:GREGORIAN
METHOD:PUBLISH
UID:0f566134-064f-47b6-bdcf-a99802b23a83
X-WR-CALNAME:iCagenda
X-WR-CALDESC:Event Management Extension for Joomla!
X-WR-RELCALID:3E26604A-50F4-4449-8B3E-E4F4932D05B5
X-WR-TIMEZONE:UTC
BEGIN:VTIMEZONE
TZID:UTC
END:VTIMEZONE
BEGIN:VEVENT
UID:409bf416-7767-4eae-b423-929f0e07667f
DTSTAMP:20260421T103643Z
CATEGORIES:Artistic Swimming Wettkämpfe International
CLASS:PUBLIC
DESCRIPTION:
DTSTART:20250525T000000Z
DTEND:20250530T000000Z
GEO:00;0
LOCATION:evtl. Berlin
ORGANIZER:
SEQUENCE:1
SUMMARY:25 Europameisterschaften
TRANSP:OPAQUE
URL:https://damenschwimmverein.de/verein/termine/57-25-europameisterschafte
 n
END:VEVENT
END:VCALENDAR
