BEGIN:VCALENDAR
VERSION:2.0
PRODID:-//damenschwimmverein//NONSGML kigkonsult.se iCalcreator 2.30.10//
CALSCALE:GREGORIAN
METHOD:PUBLISH
UID:feab9977-2f03-419c-b9b9-8c8fe0e1faea
X-WR-CALNAME:iCagenda
X-WR-CALDESC:Event Management Extension for Joomla!
X-WR-RELCALID:3E26604A-50F4-4449-8B3E-E4F4932D05B5
X-WR-TIMEZONE:UTC
BEGIN:VTIMEZONE
TZID:UTC
END:VTIMEZONE
BEGIN:VEVENT
UID:390d093a-1221-4e98-a5a0-27da09e020b6
DTSTAMP:20260421T200629Z
CATEGORIES:Show-Events
CLASS:PUBLIC
DESCRIPTION:
DTSTART:20231216T200000Z
DTEND:20231216T200000Z
GEO:00;0
LOCATION:Nordbad
ORGANIZER:
SEQUENCE:1
SUMMARY:XXL-Christmas Show - SCHNEEWITTCHEN AV- Beide Vorstellungen sind re
 stlos ausverkauft !!!
TRANSP:OPAQUE
URL:https://damenschwimmverein.de/verein/termine/31-xxl-christmas-show-schn
 eewittchen
END:VEVENT
END:VCALENDAR
