BEGIN:VCALENDAR
VERSION:2.0
PRODID:-//damenschwimmverein//NONSGML kigkonsult.se iCalcreator 2.30.10//
CALSCALE:GREGORIAN
METHOD:PUBLISH
UID:73860d2c-5791-4682-9426-0398073cea96
X-WR-CALNAME:iCagenda
X-WR-CALDESC:Event Management Extension for Joomla!
X-WR-RELCALID:3E26604A-50F4-4449-8B3E-E4F4932D05B5
X-WR-TIMEZONE:UTC
BEGIN:VTIMEZONE
TZID:UTC
END:VTIMEZONE
BEGIN:VEVENT
UID:b85aef81-ca9b-4df8-8a01-4309bbac69de
DTSTAMP:20260423T215447Z
CATEGORIES:Artistic Swimming Wettkampf National
CLASS:PUBLIC
DESCRIPTION:
DTSTART:20230429T000000Z
DTEND:20230430T000000Z
GEO:00;0
LOCATION:Nürnberg
ORGANIZER:
SEQUENCE:1
SUMMARY:Bayerische Altersklassen Meisterschaften Synchronschwimmen
TRANSP:OPAQUE
URL:https://damenschwimmverein.de/verein/termine/29-bayerische-altersklasse
 n-meisterschaften-synchronschwimmen-2
END:VEVENT
END:VCALENDAR
