BEGIN:VCALENDAR
VERSION:2.0
PRODID:-//damenschwimmverein//NONSGML kigkonsult.se iCalcreator 2.30.10//
CALSCALE:GREGORIAN
METHOD:PUBLISH
UID:d597414d-363b-409a-9401-a3dfe007337f
X-WR-CALNAME:iCagenda
X-WR-CALDESC:Event Management Extension for Joomla!
X-WR-RELCALID:3E26604A-50F4-4449-8B3E-E4F4932D05B5
X-WR-TIMEZONE:UTC
BEGIN:VTIMEZONE
TZID:UTC
END:VTIMEZONE
BEGIN:VEVENT
UID:15fd5c61-660a-494c-a50d-14c6ba93d55f
DTSTAMP:20260423T203701Z
CATEGORIES:Termine Südbad
CLASS:PUBLIC
DESCRIPTION;ALTREP="CID:<FFFF__=0ABBE548DFE235B58f9e8a93d@coffeebean.com>":
 &nbsp\;SüdB-GOL-26-01 SJ 25/26&nbsp\; Fortgeschritten II&nbsp\; mit der Mö
 glichkeit zum Abzeichen Gold ab 8/9 J.\n( Montags 18:00-18.50 Uhr )&nbsp\;
  außer in den bayerischen Schulferien\n&nbsp\;Südbad Kurspauschale 150.- E
 uro (Einstieg nach dem&nbsp\; 01.03.26 \; 75.- Euro)&nbsp\;&nbsp\;(nur&nbs
 p\;für Mitglieder)\nVorraussetzung Mitgliedschaft im Damen - Schwimm - Ver
 ein München\n\n\nlink zu den Mitgliedsbeiträgen&nbsp\;\n\nEinstieg nach ei
 nem Probetraining während des Schuljahres möglich.\n\nMitglied werden sieh
 e unten.\nTrainer/in:&nbsp\;&nbsp\;&nbsp\;Anna Dabringer\nKursinhalte / Le
 rnziele:&nbsp\;&nbsp\;Das Training findet im großen 25 m Schwimmbecken sta
 tt.&nbsp\;\nDieser Kurs spricht Teilnehmer/innen an\, die sich in Richtung
  Wettkampfschwimmen weiterentwickeln wollen:\n\nVerfeinerung der Brusttech
 nik\, Rückenkraultechnik\, Kraultechnik (Arme\, Beine und Atmung unter Was
 ser)\nAusdauerschwimmen\nAufbau von Kondition\nStreckentauchen\nStartsprun
 g\nEinführung in Wettkampftechniken\nGrundfertigkeiten des Delfinschwimmen
 s\nBaderegeln&nbsp\;\n\nBesonderheiten:Das Ablegen des Schwimmabzeichens G
 old&nbsp\;ist in diesem Kurs kostenfrei möglich.Die Teilnehmer/innen bring
 en Ihre Schwimm-Utensilien selbst mit.Ausgangsvoraussetzungen für diesen K
 urs:Voraussetzung für die Teilnahme am Gold Kurs ist die erfolgreiche Teil
 nahme am Silber Kurs.&nbsp\;\nNotwendige Ausrüstung:  &nbsp\;\nBadeanzug (
 bitte nicht Bikini) bzw. Badehose&nbsp\;Badekappe (ideal Silikon)\nBadehan
 dtuch\nSchwimmbrille (keine Taucherbrille)\nTrainingsmaterialien (z.B. Flo
 ssen....) darüber informiert die Kursleiter/in\n&nbsp\;Die Kurse finden er
 st ab 5 Teilnehmern statt!\nOrganisatorischer Ablauf der Anmeldung:&nbsp\;
 Erster Schritt:&nbsp\;Mitgliedsantrag ausfüllen&nbsp\;\n&nbsp\;Vereinsapp 
 Damen-Schwimm-Verein München 1903 e.V. (Appstore)&nbsp\; &nbsp\; &nbsp\; &
 nbsp\;\n&nbsp\; &nbsp\; &nbsp\; &nbsp\; &nbsp\; Nach dem Herunterladen der
  App folgen Sie der Bildbeschreibung:&nbsp\; &nbsp\; &nbsp\; &nbsp\; &nbsp
 \; &nbsp\;&nbsp\; &nbsp\; &nbsp\; &nbsp\; &nbsp\; &nbsp\; &nbsp\; &nbsp\; 
 &nbsp\; &nbsp\; &nbsp\;&nbsp\; &nbsp\; &nbsp\; &nbsp\; &nbsp\; &nbsp\; &nb
 sp\; &nbsp\; &nbsp\; &nbsp\; &nbsp\;&nbsp\;\noder den&nbsp\;Mitgliedsantra
 g&nbsp\;beim Damen-Schwimm-Verein München (Mitgliedsantrag anklicken) ausf
 üllen und ausdrucken\, unterschreiben und per E-Mail an\ngeschaeftsstelle@
 damenschwimmverein.de senden.\nBitte beachten Sie: Unsere gesamte weitere 
 Kommunikation läuft ausschließlich über unsere Vereinsapp. Laden sie diese
  daher unbedingt herunter und registrieren sie sich.\n&nbsp\;Zweiter Schri
 tt: bitte oben auf&nbsp\; 'zur Kursbuchung hier klicken' gehen\, um die An
 meldung für den Schwimmkurs durchzuführen.&nbsp\;\nMitgliedsbeitrag&nbsp\;
 Die Zusammensetzung des Mitgliedsbeitrags kann der Beitragsliste&nbsp\;ent
 nommen werden.&nbsp\;&nbsp\;Eine schriftliche Kündigung ist nach einjährig
 er Mitgliedschaft immer zum 31.12. eines Jahres unter Einhaltung einer Fri
 st von einem Monat möglich.&nbsp\;&nbsp\;Fragen&nbsp\;kurs@damenschwimmver
 ein.de&nbsp\;&nbsp\;Kurzfristige Verschiebungen&nbsp\;Aufgrund von äußeren
  Umständen\, wie z.B. Bäderschließungen\, Vorgaben der Stadt München usw. 
 können sich Termine kurzfristig ändern. Sie werden darüber in unserer Vere
 insapp informiert. Bitte laden Sie sich die App herunter und registrieren 
 sie sich.&nbsp\;Zuschauer/Begleitpersonen&nbsp\;sind zwar möglich\, lenken
  aber die Kinder zu sehr ab. Wir wünschen uns deshalb\, dass sich die Elte
 rn außerhalb des Trainingsbereiches aufhalten und nicht Zuschauer beim Tra
 ining sind.\n Ort Südbad der Stadtwerke München\n\n\n\n\nDie&nbsp\;Termine
 &nbsp\;sind bei Terminüberschneidungen\, Krankheit oder Nichtgefallen&nbsp
 \;nicht stornier- oder nachholbar. Bitte kommen Sie pünktlich.\n\n\n\n\nKu
 rsgebühr bei Buchung fällig - Nutzen Sie bitte paypal\nAlle Plätze voll? H
 ier geht´s zur Warteliste.\n&nbsp\;
DTSTART:20250920T180000Z
DTEND:20260727T185000Z
GEO:+48.116417;+11.544517
LOCATION:Südbad Städtisches Schwimmbad
ORGANIZER;CN=:kurs@damenschwimmverein.de
SEQUENCE:1
SUMMARY:SÜDB-GOL-26-01 SJ 25/26  Fortgeschritten II - mit Möglichkeit Abzei
 chen Gold
TRANSP:OPAQUE
URL:https://damenschwimmverein.de/verein/termine/178-suedb-gol-26-01-sj-25-
 26-fortgeschritten-ii-mit-moeglichkeit-abzeichen-gold
END:VEVENT
END:VCALENDAR
