BEGIN:VCALENDAR
VERSION:2.0
PRODID:-//damenschwimmverein//NONSGML kigkonsult.se iCalcreator 2.30.10//
CALSCALE:GREGORIAN
METHOD:PUBLISH
UID:7a79dbb4-0751-48b5-9b3a-78c6a78b8c7b
X-WR-CALNAME:iCagenda
X-WR-CALDESC:Event Management Extension for Joomla!
X-WR-RELCALID:3E26604A-50F4-4449-8B3E-E4F4932D05B5
X-WR-TIMEZONE:UTC
BEGIN:VTIMEZONE
TZID:UTC
END:VTIMEZONE
BEGIN:VEVENT
UID:52838422-f828-42d9-a511-7b4edfb59177
DTSTAMP:20260425T220814Z
CATEGORIES:Termine Südbad
CLASS:PUBLIC
DESCRIPTION;ALTREP="CID:<FFFF__=0ABBE548DFE235B58f9e8a93d@coffeebean.com>":
 &nbsp\;Kursprogramm Erwachsene\nSüDB-26-EWK-02\n&nbsp\;SCHWIMMTECHNIK Krau
 len Anfänger&nbsp\; - KURS FÜR ERWACHSENE\n\n\n\n\n\n\n\nTrainer/in: Simon
 e Keppler-WaldmannTrainingsort: Südbad Stadtwerke München\n\n\n&nbsp\;\nDi
 enstags 10 x 19.00-19.50 Uhr (außer in den bayerischen Schulferien)\n10 x 
 50 min&nbsp\;&nbsp\;jeweils Dienstag 19:00-19.50 Uhr&nbsp\;Kursabend für &
 nbsp\;Erwachsene\n&nbsp\;\n\n\n\nKurskosten: 117.-&nbsp\; Euro (&nbsp\;für
  Vereinsmitglieder)&nbsp\;\nVoraussetzung ist die Vereinsmitgliedsschaft i
 m Damen-Schwimm-Verein München e.V.\nlink zum Mitgliedsantrag\nlink zu den
  Mitgliedsbeiträgen\n\n\n&nbsp\;\nFragen&nbsp\;:&nbsp\;kurs@damenschwimmve
 rein.de&nbsp\;\n\n\nKursziele\n\nErlernen der Schwimmtechnik Kraul\nBefähi
 gung 50m Kraulschwimmen\n\n\n\n\n&nbsp\;\n\nKursinhalte&nbsp\;- &nbsp\;Erl
 ernen der Schwimmtechnik Kraul unter Anwendung verschiedener Technischer U
 ̈bungen- &nbsp\;Training der Ausdauer\nVoraussetzungen\n&nbsp\;Schwimmfähi
 gkeit&nbsp\; 50m Brust Schwimmen\n- Badeanzug (bitte nicht Bikini) bzw. Ba
 dehose\n\n\n&nbsp\; &nbsp\; &nbsp\; &nbsp\; - Badekappe (ideal Silikon)\n&
 nbsp\; &nbsp\; &nbsp\; &nbsp\; - Badehandtuch\n&nbsp\; &nbsp\; &nbsp\; &nb
 sp\; - Schwimmbrille\n&nbsp\; &nbsp\; &nbsp\; &nbsp\; -&nbsp\;gut sitzende
  Kurzflossen\n&nbsp\;\n(Für nicht in Anspruch genommene Kursstunden kann l
 eider&nbsp\;keine&nbsp\;Erstattung erfolgen)\nWir behalten uns vor die Kur
 se erst ab 5 Teilnehmern stattfinden zu lassen.\n\n\n\n\n\n&nbsp\;bitte ob
 en auf&nbsp\; 'zur Kursbuchung hier klicken' gehen\, um die Anmeldung für 
 den Schwimmkurs durchzuführen.&nbsp\;\nKurzfristige Verschiebungen&nbsp\;A
 ufgrund von äußeren Umständen\, wie z.B. Bäderschließungen\, Vorgaben der 
 Stadt München usw. können sich Termine kurzfristig ändern. Sie werden darü
 ber in unserer Vereinsapp informiert. Bitte laden Sie sich die App herunte
 r und registrieren sie sich.&nbsp\; Die&nbsp\;Termine&nbsp\;sind bei Termi
 nüberschneidungen\, Krankheit oder Nichtgefallen&nbsp\;nicht stornier- ode
 r nachholbar. Bitte kommen Sie pünktlich.\n\n\n\n\n\n\nKursgebühr bei Buch
 ung fällig - Nutzen Sie bitte paypal\n\n\n\n\n\n\nAlle Plätze voll? Hier g
 eht´s zur Warteliste.
DTSTART:20260428T190000Z
DTEND:20260714T195000Z
GEO:+48.116417;+11.544517
LOCATION:Südbad Städtisches Schwimmbad
ORGANIZER;CN=:kurs@damenschwimmverein.de
SEQUENCE:1
SUMMARY:SÜDB-EWK1-26-02 KRAULEN für Anfänger - Erwachsen
TRANSP:OPAQUE
URL:https://damenschwimmverein.de/verein/termine/177-suedb-ewk1-26-02-kraul
 en-fuer-anfaenger-erwachsen-3
END:VEVENT
END:VCALENDAR
