BEGIN:VCALENDAR
VERSION:2.0
PRODID:-//damenschwimmverein//NONSGML kigkonsult.se iCalcreator 2.30.10//
CALSCALE:GREGORIAN
METHOD:PUBLISH
UID:1b21dd80-9e31-4093-8b5b-1321bc5dbea0
X-WR-CALNAME:iCagenda
X-WR-CALDESC:Event Management Extension for Joomla!
X-WR-RELCALID:3E26604A-50F4-4449-8B3E-E4F4932D05B5
X-WR-TIMEZONE:UTC
BEGIN:VTIMEZONE
TZID:UTC
END:VTIMEZONE
BEGIN:VEVENT
UID:37deb970-1c56-49a4-a1f3-d7ed4d383e86
DTSTAMP:20260423T165420Z
CATEGORIES:Termine Südbad
CLASS:PUBLIC
DESCRIPTION;ALTREP="CID:<FFFF__=0ABBE548DFE235B58f9e8a93d@coffeebean.com>":
 &nbsp\;SüdB-SIL-26-02 Fortgeschrittene I mit der Möglichkeit zum Abzeichen
  Silber\nMontags 17:00-17.50 Uhr&nbsp\; &nbsp\;(nicht in den bayerischen S
 chulferien)&nbsp\;\nKurskosten&nbsp\; 95.- Euro (nur&nbsp\;für Mitglieder)
 \nVorraussetzung Mitgliedschaft im Damen-Schwimm-Verein München e.V.&nbsp\
 ;\n\n\nlink zu den Mitgliedsbeiträgen\n\n&nbsp\;Trainer/in:&nbsp\; Anna Da
 bringer\nKursinhalte / Lernziele:&nbsp\;\nDas Training findet im großen 25
  m Schwimmbecken statt. Dieser Kurs spricht Teilnehmer an\, die sich in fo
 lgenden Bereichen verbessern wollen:&nbsp\;\n\nVerfeinerung der Rückenkrau
 l-\, Kraul- und Brusttechnik (Arme\, Beine und Atmung unter Wasser)\nAusda
 uerschwimmen\nKopfsprung\nStreckentauchen\, Tieftauchen\nWiederholung der 
 Baderegel&nbsp\;\n\nBesonderheiten:&nbsp\;Das Ablegen des Schwimmabzeichen
 s Silber ist in diesem Kurs kostenfrei möglich.&nbsp\;Ausgangsvoraussetzun
 gen für diesen Kurs:&nbsp\;Voraussetzung für die Teilnahme am Fortgeschirt
 tenen I - Kurs ist die erfolgreiche Teilnahme am Bronze Kurs bzw. ein Vors
 chwimmen.&nbsp\;\n\nNotwendige Ausrüstung:  &nbsp\;• Badeanzug (bitte nich
 t Bikini) bzw. Badehose&nbsp\;• Badekappe (ideal Silikon)&nbsp\;• Badehand
 tuch&nbsp\;\nTrainingsmaterialien nach Bedarf (Flossen... etc.) (darüber i
 nformiert die Kursleiterin)\n\n&nbsp\;\nDie Kurse finden erst ab 5 Teilneh
 mern statt!\nOrganisatorischer Ablauf der Anmeldung:&nbsp\;Erster Schritt:
 &nbsp\;Mitgliedsantrag ausfüllen&nbsp\;\n\n&nbsp\;Vereinsapp Damen-Schwimm
 -Verein München 1903 e.V. (Appstore)&nbsp\; &nbsp\; &nbsp\; &nbsp\;\n\n&nb
 sp\; &nbsp\; &nbsp\; &nbsp\; &nbsp\; Nach dem Herunterladen der App folgen
  Sie der Bildbeschreibung:&nbsp\; &nbsp\; &nbsp\; &nbsp\; &nbsp\; &nbsp\;&
 nbsp\; &nbsp\; &nbsp\; &nbsp\; &nbsp\; &nbsp\; &nbsp\; &nbsp\; &nbsp\; &nb
 sp\; &nbsp\;&nbsp\; &nbsp\; &nbsp\; &nbsp\; &nbsp\; &nbsp\; &nbsp\; &nbsp\
 ; &nbsp\; &nbsp\; &nbsp\;&nbsp\;\n\noder den&nbsp\;Mitgliedsantrag&nbsp\;b
 eim Damen-Schwimm-Verein München (Mitgliedsantrag anklicken) ausfüllen und
  ausdrucken\, unterschreiben und per E-Mail an \ngeschaeftsstelle@damensch
 wimmverein.de senden.\nBitte beachten Sie: Unsere gesamte weitere Kommunik
 ation läuft ausschließlich über unsere Vereinsapp. Laden sie diese daher u
 nbedingt herunter und registrieren sie sich.\n\n&nbsp\;Zweiter Schritt: bi
 tte oben auf&nbsp\; 'zur Kursbuchung hier klicken' gehen\, um die Anmeldun
 g für den Schwimmkurs durchzuführen.&nbsp\;\nMitgliedsbeitrag&nbsp\;Die Zu
 sammensetzung des Mitgliedsbeitrags kann der Beitragsliste&nbsp\;entnommen
  werden.&nbsp\;&nbsp\;Eine schriftliche Kündigung ist nach einjähriger Mit
 gliedschaft immer zum 31.12. eines Jahres unter Einhaltung einer Frist von
  einem Monat möglich.&nbsp\;&nbsp\;Fragen&nbsp\;kurs@damenschwimmverein.de
 &nbsp\;&nbsp\;Kurzfristige Verschiebungen&nbsp\;Aufgrund von äußeren Umstä
 nden\, wie z.B. Bäderschließungen\, Vorgaben der Stadt München usw. können
  sich Termine kurzfristig ändern. Sie werden darüber in unserer Vereinsapp
  informiert. Bitte laden Sie sich die App herunter und registrieren sie si
 ch.&nbsp\;Zuschauer/Begleitpersonen&nbsp\;sind zwar möglich\, lenken aber 
 die Kinder zu sehr ab. Wir wünschen uns deshalb\, dass sich die Eltern auß
 erhalb des Trainingsbereiches aufhalten und nicht Zuschauer beim Training 
 sind.\n Ort: Südbad der Stadtwerke München\n\n\n\n\n\n\nDie&nbsp\;Termine&
 nbsp\;sind bei Terminüberschneidungen\, Krankheit oder Nichtgefallen&nbsp\
 ;nicht stornier- oder nachholbar. Bitte kommen Sie pünktlich.\n\n\n\n\nKur
 sgebühr bei Buchung fällig - Nutzen Sie bitte paypal\n\nAlle Plätze voll? 
 Hier geht´s zur Warteliste.\n&nbsp\;
DTSTART:20260427T170000Z
DTEND:20260713T175000Z
GEO:+48.116417;+11.544517
LOCATION:Südbad Städtisches Schwimmbad
ORGANIZER;CN=:kurs@damenschwimmverein.de
SEQUENCE:1
SUMMARY:SÜDB-SIL-26-02 Fortgeschritten I -  Mit der Möglichkeit Abzeichen S
 ilber
TRANSP:OPAQUE
URL:https://damenschwimmverein.de/verein/termine/175-suedb-sil-26-02-fortge
 schritten-i-abzeichen-silber
END:VEVENT
END:VCALENDAR
