BEGIN:VCALENDAR
VERSION:2.0
PRODID:-//damenschwimmverein//NONSGML kigkonsult.se iCalcreator 2.30.10//
CALSCALE:GREGORIAN
METHOD:PUBLISH
UID:f3e3186d-443a-472b-82a2-493c521f693f
X-WR-CALNAME:iCagenda
X-WR-CALDESC:Event Management Extension for Joomla!
X-WR-RELCALID:3E26604A-50F4-4449-8B3E-E4F4932D05B5
X-WR-TIMEZONE:UTC
BEGIN:VTIMEZONE
TZID:UTC
END:VTIMEZONE
BEGIN:VEVENT
UID:dbd4d310-5a73-479b-9a74-ac58e536dad0
DTSTAMP:20260424T025911Z
CATEGORIES:Termine Südbad
CLASS:PUBLIC
DESCRIPTION;ALTREP="CID:<FFFF__=0ABBE548DFE235B58f9e8a93d@coffeebean.com>":
 &nbsp\;SüdB-WG-26-2&nbsp\; Wassergewöhnung Frosch ab 4 J.\n10 x Dienstags 
 von 16:00-16.50 Uhr (nicht in den bayerischen Schwimmferien)&nbsp\;\nKursk
 osten&nbsp\; 95.- Euro (nur&nbsp\;für Mitglieder)\n\nVorraussetzung Mitgli
 edschaft im Damen-Schwimm-Verein München e.V.&nbsp\;\n\n\nlink zum Mitglie
 dsantrag\nlink zu den Mitgliedsbeiträgen\n\n\n\nTrainer/in:&nbsp\;&nbsp\;&
 nbsp\;Simone Keppler-Waldmann\nKursinhalte / Lernziele:&nbsp\;Das Training
  findet im warmen Lehrschwimmbecken statt.(Unter)tauchen\, Schweben (Auftr
 ieb erfahren)\, Gleiten\, Atmen (u.a. unter Wasser ausatmen)\, Springen\, 
 Drehen und Rollen im Wasser (Lagewechsel)\, Strampelbeine mit und ohne Hil
 fsmittel auf dem Bauch und auf dem Rücken.&nbsp\;Ziel:&nbsp\;&nbsp\;Das Ab
 legen des Schwimmabzeichens Frosch ist in diesem Kurs kostenfrei möglich.&
 nbsp\;\nAusgangsvoraussetzungen für diesen Kurs:&nbsp\;Die Kinder sollen k
 eine Angst vor dem Wasser haben.\nNotwendige Ausrüstung:  &nbsp\;• Badeanz
 ug (bitte nicht Bikini) bzw. Badehose&nbsp\;• Badekappe (ideal Silikon)&nb
 sp\;• Badehandtuch\n• ggf. Schwimmbrille\nDie Kurse finden erst ab 5 Teiln
 ehmern statt!&nbsp\;\nbitte oben auf&nbsp\; 'zur Kursbuchung hier klicken'
  gehen\, um die Anmeldung für den Schwimmkurs durchzuführen.&nbsp\;\n&nbsp
 \;Fragen&nbsp\;kurs@damenschwimmverein.de&nbsp\;&nbsp\;Kurzfristige Versch
 iebungen&nbsp\;Aufgrund von äußeren Umständen\, wie z.B. Bäderschließungen
 \, Vorgaben der Stadt München usw. können sich Termine kurzfristig ändern.
  Sie werden darüber in unserer Vereinsapp informiert. Bitte laden Sie sich
  die App herunter und registrieren sie sich.&nbsp\;Zuschauer/Begleitperson
 en&nbsp\;sind zwar möglich\, lenken aber die Kinder zu sehr ab. Wir wünsch
 en uns deshalb\, dass sich die Eltern außerhalb des Trainingsbereiches auf
 halten und nicht Zuschauer beim Training sind.\n Ort Südbad der Stadtwerke
  München\n\n\n\n\n\n\nDie&nbsp\;Termine&nbsp\;sind bei Terminüberschneidun
 gen\, Krankheit oder Nichtgefallen&nbsp\;nicht stornier- oder nachholbar. 
 Bitte kommen Sie pünktlich.\n\n\n\n\nKursgebühr bei Buchung fällig - Nutze
 n Sie bitte paypal\n\nAlle Plätze voll? Hier geht´s zur Warteliste.\n&nbsp
 \;\n\n&nbsp\;
DTSTART:20260428T160000Z
DTEND:20260714T165000Z
GEO:+48.116417;+11.544517
LOCATION:Südbad Städtisches Schwimmbad
ORGANIZER;CN=:kurs@damenschwimmverein.de
SEQUENCE:1
SUMMARY:SÜDB-WG-26-02  Wassergewöhnung 1\,2  Abzeichen Frosch  ab 4 J. -
TRANSP:OPAQUE
URL:https://damenschwimmverein.de/verein/termine/172-suedb-wg-26-02-wasserg
 ewoehnung-1-2-abzeichen-frosch-ab-4-j
END:VEVENT
END:VCALENDAR
