BEGIN:VCALENDAR
VERSION:2.0
PRODID:-//damenschwimmverein//NONSGML kigkonsult.se iCalcreator 2.30.10//
CALSCALE:GREGORIAN
METHOD:PUBLISH
UID:51eb7cd1-0275-4dd7-a196-f32fb2c22002
X-WR-CALNAME:iCagenda
X-WR-CALDESC:Event Management Extension for Joomla!
X-WR-RELCALID:3E26604A-50F4-4449-8B3E-E4F4932D05B5
X-WR-TIMEZONE:UTC
BEGIN:VTIMEZONE
TZID:UTC
END:VTIMEZONE
BEGIN:VEVENT
UID:167ba9f0-9b77-4664-bb97-5c73d9f77cb3
DTSTAMP:20260420T125225Z
CATEGORIES:Artistic Swimming DSV Lehrgänge Nationalmannschaft
CLASS:PUBLIC
DESCRIPTION:
DTSTART:20260424T021900Z
DTEND:20260426T021900Z
GEO:00;0
LOCATION:
ORGANIZER:
SEQUENCE:1
SUMMARY:26 DSV NK1 Lehrgang
TRANSP:OPAQUE
URL:https://damenschwimmverein.de/verein/termine/149-26-dsv-nk1-lehrgang-4
END:VEVENT
END:VCALENDAR
