BEGIN:VCALENDAR
VERSION:2.0
PRODID:-//damenschwimmverein//NONSGML kigkonsult.se iCalcreator 2.30.10//
CALSCALE:GREGORIAN
METHOD:PUBLISH
UID:88caa124-54a7-4403-919a-427995351453
X-WR-CALNAME:iCagenda
X-WR-CALDESC:Event Management Extension for Joomla!
X-WR-RELCALID:3E26604A-50F4-4449-8B3E-E4F4932D05B5
X-WR-TIMEZONE:UTC
BEGIN:VTIMEZONE
TZID:UTC
END:VTIMEZONE
BEGIN:VEVENT
UID:364eb850-6938-4174-9650-3ff44772332a
DTSTAMP:20260420T234050Z
CATEGORIES:Artistic Swimming DSV Lehrgänge Nationalmannschaft
CLASS:PUBLIC
DESCRIPTION:
DTSTART:20260417T021100Z
DTEND:20260422T021100Z
GEO:+52.455475;+13.957153
LOCATION:Kienbaum
ORGANIZER:
SEQUENCE:1
SUMMARY:26 DSV 03 NK2 U15 Lehrgang Kienbaum
TRANSP:OPAQUE
URL:https://damenschwimmverein.de/verein/termine/142-26-dsv-03-nk2-u15-lehr
 gang-kienbaum
END:VEVENT
END:VCALENDAR
