BEGIN:VCALENDAR
VERSION:2.0
PRODID:-//damenschwimmverein//NONSGML kigkonsult.se iCalcreator 2.30.10//
CALSCALE:GREGORIAN
METHOD:PUBLISH
UID:d0ab7ac7-6904-4ea2-aea5-aa1c264b06d9
X-WR-CALNAME:iCagenda
X-WR-CALDESC:Event Management Extension for Joomla!
X-WR-RELCALID:3E26604A-50F4-4449-8B3E-E4F4932D05B5
X-WR-TIMEZONE:UTC
BEGIN:VTIMEZONE
TZID:UTC
END:VTIMEZONE
BEGIN:VEVENT
UID:a6e162c2-865b-43ba-892e-58cd3602ea30
DTSTAMP:20260424T221050Z
CATEGORIES:Artistic Swimming DSV Lehrgänge Nationalmannschaft
CLASS:PUBLIC
DESCRIPTION:
DTSTART:20250621T000000Z
DTEND:20250625T000000Z
GEO:00;0
LOCATION:Dresden
ORGANIZER:
SEQUENCE:1
SUMMARY:25-12 DSV NM-Team Lehrgang   NK2-3
TRANSP:OPAQUE
URL:https://damenschwimmverein.de/component/icagenda/70-5-11-dsv-nm-team-le
 hrgang-nk2-3
END:VEVENT
END:VCALENDAR
