BEGIN:VCALENDAR
VERSION:2.0
PRODID:-//damenschwimmverein//NONSGML kigkonsult.se iCalcreator 2.30.10//
CALSCALE:GREGORIAN
METHOD:PUBLISH
UID:0f60c37d-0799-4d13-a902-f04df5323d5e
X-WR-CALNAME:iCagenda
X-WR-CALDESC:Event Management Extension for Joomla!
X-WR-RELCALID:3E26604A-50F4-4449-8B3E-E4F4932D05B5
X-WR-TIMEZONE:UTC
BEGIN:VTIMEZONE
TZID:UTC
END:VTIMEZONE
BEGIN:VEVENT
UID:2111c45c-09f2-4d03-b596-e8bda6477d04
DTSTAMP:20260422T044533Z
CATEGORIES:Artistic Swimming DSV Lehrgänge Nationalmannschaft
CLASS:PUBLIC
DESCRIPTION:
DTSTART:20250519T000000Z
DTEND:20250522T000000Z
GEO:00;0
LOCATION:nn
ORGANIZER:
SEQUENCE:1
SUMMARY:25-10 DSV NM-Team UWV  EM
TRANSP:OPAQUE
URL:https://damenschwimmverein.de/component/icagenda/69-25-09-dsv-nm-team-l
 ehrgang
END:VEVENT
END:VCALENDAR
