BEGIN:VCALENDAR
VERSION:2.0
PRODID:-//damenschwimmverein//NONSGML kigkonsult.se iCalcreator 2.30.10//
CALSCALE:GREGORIAN
METHOD:PUBLISH
UID:7bc32c3a-627d-4cd9-b9af-be82449ea266
X-WR-CALNAME:iCagenda
X-WR-CALDESC:Event Management Extension for Joomla!
X-WR-RELCALID:3E26604A-50F4-4449-8B3E-E4F4932D05B5
X-WR-TIMEZONE:UTC
BEGIN:VTIMEZONE
TZID:UTC
END:VTIMEZONE
BEGIN:VEVENT
UID:a2f09066-ffe0-48a6-b505-d16952f03595
DTSTAMP:20260422T102924Z
CATEGORIES:Artistic Swimming DSV Lehrgänge Nationalmannschaft
CLASS:PUBLIC
DESCRIPTION:
DTSTART:20250305T000000Z
DTEND:20250309T000000Z
GEO:00;0
LOCATION:München
ORGANIZER:
SEQUENCE:1
SUMMARY:25-04 DSV NM-Team Lehrgang
TRANSP:OPAQUE
URL:https://damenschwimmverein.de/component/icagenda/64-25-04-dsv-nm-team-l
 ehrgang
END:VEVENT
END:VCALENDAR
