BEGIN:VCALENDAR
VERSION:2.0
PRODID:-//damenschwimmverein//NONSGML kigkonsult.se iCalcreator 2.30.10//
CALSCALE:GREGORIAN
METHOD:PUBLISH
UID:15070cb6-cb4c-4279-9d93-0166bec494cf
X-WR-CALNAME:iCagenda
X-WR-CALDESC:Event Management Extension for Joomla!
X-WR-RELCALID:3E26604A-50F4-4449-8B3E-E4F4932D05B5
X-WR-TIMEZONE:UTC
BEGIN:VTIMEZONE
TZID:UTC
END:VTIMEZONE
BEGIN:VEVENT
UID:a1d446cd-d407-4c74-8fb3-0b16040285f1
DTSTAMP:20260424T121404Z
CATEGORIES:Schwimmkurse München
CLASS:PUBLIC
DESCRIPTION;ALTREP="CID:<FFFF__=0ABBE548DFE235B58f9e8a93d@coffeebean.com>":
 &nbsp\;Kursprogramm Kinder\n26 FISCHLEIN Anfänger-Kurs Artistic Swimming I
 SARNIXEN - Voraussetzung erfolgreiches Casting !FÜR 6-9 jährige Mädchen un
 d Jungen\n\n\n\n\n&nbsp\;\n\n\n\nKURSBEGINN 06.03.2026\nDauer: ca. 6 Monat
 e (exkl. Ferien\, d.h. bis ca. Ende September /Anfang Oktober 2026)Trainin
 gszeiten:&nbsp\;Ballett Trainingszeiten und Ort noch ausstehendFr.: 15.00-
 16.30 Uhr Dantegymnasium\n\n\n\nVoraussetzung erfolgreiches Casting bei de
 n Isarnixen\n\nPreis für 6 Monate Kurs 190€ inkl. blaue Isarnixen Badekapp
 e am Ende des Kursezzgl. € 55 einmalige Aufnahmegebühr\, die später angere
 chnet wird\n\n\n\n\n\n\n\nBitte unbedingt beachten bzw. mitbringen\n\nBade
 anzug (kein Bikini)\nSchwimmbrille\nSilikonbadekappe (lange Haare bereits 
 mit festem Haargummi&nbsp\;zusammengebunden)\nBadeschlappen\nHandtuch&nbsp
 \;\nDuschgel und Shampoo\nGgf. 3€ zum optionalen Kauf einer eigenen Nasenk
 lammer\nGgf. Trinkflasche (kein Glas!)\n\n(Für nicht in Anspruch genommene
  Kursstunden kann leider&nbsp\;keine&nbsp\;Erstattung erfolgen)
DTSTART:20260306T170000Z
DTEND:20261002T170000Z
GEO:+48.114971;+11.543859
LOCATION:Dante Gymnasium
ORGANIZER;CN=:talent@artisticswimming.de
SEQUENCE:1
SUMMARY:26 FISCHLEIN Anfänger-Kurs Artistic Swimming ISARNIXEN
TRANSP:OPAQUE
URL:https://damenschwimmverein.de/component/icagenda/167-26-fischlein-anfae
 nger-kurs-artistic-swimming-isarnixen
END:VEVENT
END:VCALENDAR
